BEGIN:VCALENDAR
VERSION:2.0
PRODID:-//Expo 2026 in Obfelden - ECPv6.15.20//NONSGML v1.0//EN
CALSCALE:GREGORIAN
METHOD:PUBLISH
X-WR-CALNAME:Expo 2026 in Obfelden
X-ORIGINAL-URL:https://www.expo-obfelden.ch
X-WR-CALDESC:Veranstaltungen für Expo 2026 in Obfelden
REFRESH-INTERVAL;VALUE=DURATION:PT1H
X-Robots-Tag:noindex
X-PUBLISHED-TTL:PT1H
BEGIN:VTIMEZONE
TZID:Europe/Zurich
BEGIN:DAYLIGHT
TZOFFSETFROM:+0100
TZOFFSETTO:+0200
TZNAME:CEST
DTSTART:20250330T010000
END:DAYLIGHT
BEGIN:STANDARD
TZOFFSETFROM:+0200
TZOFFSETTO:+0100
TZNAME:CET
DTSTART:20251026T010000
END:STANDARD
BEGIN:DAYLIGHT
TZOFFSETFROM:+0100
TZOFFSETTO:+0200
TZNAME:CEST
DTSTART:20260329T010000
END:DAYLIGHT
BEGIN:STANDARD
TZOFFSETFROM:+0200
TZOFFSETTO:+0100
TZNAME:CET
DTSTART:20261025T010000
END:STANDARD
BEGIN:DAYLIGHT
TZOFFSETFROM:+0100
TZOFFSETTO:+0200
TZNAME:CEST
DTSTART:20270328T010000
END:DAYLIGHT
BEGIN:STANDARD
TZOFFSETFROM:+0200
TZOFFSETTO:+0100
TZNAME:CET
DTSTART:20271031T010000
END:STANDARD
END:VTIMEZONE
BEGIN:VEVENT
DTSTART;TZID=Europe/Zurich:20260614T100000
DTEND;TZID=Europe/Zurich:20260614T180000
DTSTAMP:20260419T142112
CREATED:20260415T135317Z
LAST-MODIFIED:20260415T135318Z
UID:1987-1781431200-1781460000@www.expo-obfelden.ch
SUMMARY:Kinder-Hort
DESCRIPTION:Für Kinder zwischen 2 1/2 und 6 Jahren steht der Kinder-Hort im Spielgruppen-Raum (Untergeschoss Mehrzweckhalle) zur Verfügung.
URL:https://www.expo-obfelden.ch/event/kinder-hort-2/
LOCATION:Spielgruppen-Raum\, Untergeschoss Mehrzweckhalle Zendenfrei
CATEGORIES:Familie
ATTACH;FMTTYPE=image/jpeg:https://www.expo-obfelden.ch/wp-content/uploads/2022/08/kinderhort.jpg
END:VEVENT
BEGIN:VEVENT
DTSTART;TZID=Europe/Zurich:20260614T100000
DTEND;TZID=Europe/Zurich:20260614T180000
DTSTAMP:20260419T142112
CREATED:20260415T140022Z
LAST-MODIFIED:20260415T140023Z
UID:1997-1781431200-1781460000@www.expo-obfelden.ch
SUMMARY:Chilbi-Betrieb
DESCRIPTION:Hüpfburg und Karussell (kleine Gebühr) sind für die Kinder geöffnet.
URL:https://www.expo-obfelden.ch/event/chilbi-betrieb-6/
LOCATION:Piazza\, Zendenfrei-Areal\, Obfelden\, 8912
CATEGORIES:Familie
ATTACH;FMTTYPE=image/jpeg:https://www.expo-obfelden.ch/wp-content/uploads/2026/04/IMG_2904.jpg
END:VEVENT
BEGIN:VEVENT
DTSTART;TZID=Europe/Zurich:20260614T110000
DTEND;TZID=Europe/Zurich:20260614T113000
DTSTAMP:20260419T142112
CREATED:20220828T070000Z
LAST-MODIFIED:20260415T140200Z
UID:914-1781434800-1781436600@www.expo-obfelden.ch
SUMMARY:Frühschoppenkonzert Musikverein Obfelden
DESCRIPTION:Der Musikverein Obfelden verwöhnt Sie mit sonntäglichen Klängen seiner Blasmusik.
URL:https://www.expo-obfelden.ch/event/fruehschoppenkonzert-musikverein-obfelden/
LOCATION:Piazza\, Zendenfrei-Areal\, Obfelden\, 8912
CATEGORIES:Musik
ATTACH;FMTTYPE=image/jpeg:https://www.expo-obfelden.ch/wp-content/uploads/2022/05/20190530-Auffahrt-scaled.jpg
END:VEVENT
BEGIN:VEVENT
DTSTART;TZID=Europe/Zurich:20260614T110000
DTEND;TZID=Europe/Zurich:20260614T160000
DTSTAMP:20260419T142112
CREATED:20260415T142324Z
LAST-MODIFIED:20260415T142324Z
UID:2017-1781434800-1781452800@www.expo-obfelden.ch
SUMMARY:Kinder-Schminken
DESCRIPTION:
URL:https://www.expo-obfelden.ch/event/kinder-schminken-2/
LOCATION:Bühne\, Mehrzweckhalle Zendenfrei\, Obfelden
CATEGORIES:Familie
ATTACH;FMTTYPE=image/jpeg:https://www.expo-obfelden.ch/wp-content/uploads/2026/04/Logo-mit-Foto.jpg
END:VEVENT
BEGIN:VEVENT
DTSTART;TZID=Europe/Zurich:20260614T140000
DTEND;TZID=Europe/Zurich:20260614T150000
DTSTAMP:20260419T142112
CREATED:20260415T141204Z
LAST-MODIFIED:20260415T141205Z
UID:2007-1781445600-1781449200@www.expo-obfelden.ch
SUMMARY:Kinder-Musical "Chinderhelde"
DESCRIPTION:
URL:https://www.expo-obfelden.ch/event/kinder-musical-chinderhelde/
LOCATION:Event-Zelt\, Schmittenstrasse 5\, Obfelden\, 8912\, Schweiz
CATEGORIES:Familie
ATTACH;FMTTYPE=image/jpeg:https://www.expo-obfelden.ch/wp-content/uploads/2026/04/csm_CH_Header_Handsign_mit_Logo_d06092893b-scaled.jpg
END:VEVENT
BEGIN:VEVENT
DTSTART;TZID=Europe/Zurich:20260614T180000
DTEND;TZID=Europe/Zurich:20260614T180000
DTSTAMP:20260419T142112
CREATED:20260415T142730Z
LAST-MODIFIED:20260415T142737Z
UID:2021-1781460000-1781460000@www.expo-obfelden.ch
SUMMARY:Ende
DESCRIPTION:Die Expo schliesst ihre Türen.
URL:https://www.expo-obfelden.ch/event/ende/
CATEGORIES:Event
END:VEVENT
END:VCALENDAR